BEGIN:VCALENDAR
VERSION:2.0
PRODID:-//PowerRobic® - ECPv6.8.1//NONSGML v1.0//EN
CALSCALE:GREGORIAN
METHOD:PUBLISH
X-WR-CALNAME:PowerRobic®
X-ORIGINAL-URL:https://www.powerrobic.de
X-WR-CALDESC:Veranstaltungen für PowerRobic®
REFRESH-INTERVAL;VALUE=DURATION:PT1H
X-Robots-Tag:noindex
X-PUBLISHED-TTL:PT1H
BEGIN:VTIMEZONE
TZID:Europe/Berlin
BEGIN:DAYLIGHT
TZOFFSETFROM:+0100
TZOFFSETTO:+0200
TZNAME:CEST
DTSTART:20240331T010000
END:DAYLIGHT
BEGIN:STANDARD
TZOFFSETFROM:+0200
TZOFFSETTO:+0100
TZNAME:CET
DTSTART:20241027T010000
END:STANDARD
END:VTIMEZONE
BEGIN:VEVENT
DTSTART;TZID=Europe/Berlin:20240908T083000
DTEND;TZID=Europe/Berlin:20240908T100000
DTSTAMP:20260423T115512
CREATED:20240326T081907Z
LAST-MODIFIED:20240326T082330Z
UID:3565-1725784200-1725789600@www.powerrobic.de
SUMMARY:Masterclass zum Thüringer Sportkongress 2024
DESCRIPTION:PowerRobic® Masterclass zum Thüringer Sportkongress in Bad Blankenburg 2024 \n08:30 - 10.00 Uhr\npräsentiert vom Thüringer Bildungswerk LSB
URL:https://www.powerrobic.de/event/masterclass-zum-thueringer-sportkongress-2024/
LOCATION:Landessportschule Bad Blankenburg\, Wirbacher Straße 10\, Bad Blankenburg\, 07422\, Deutschland
CATEGORIES:Masterclass
END:VEVENT
END:VCALENDAR