BEGIN:VCALENDAR
VERSION:2.0
PRODID:-//PowerRobic® - ECPv6.8.1//NONSGML v1.0//EN
CALSCALE:GREGORIAN
METHOD:PUBLISH
X-WR-CALNAME:PowerRobic®
X-ORIGINAL-URL:https://www.powerrobic.de
X-WR-CALDESC:Veranstaltungen für PowerRobic®
REFRESH-INTERVAL;VALUE=DURATION:PT1H
X-Robots-Tag:noindex
X-PUBLISHED-TTL:PT1H
BEGIN:VTIMEZONE
TZID:Europe/Berlin
BEGIN:DAYLIGHT
TZOFFSETFROM:+0100
TZOFFSETTO:+0200
TZNAME:CEST
DTSTART:20240331T010000
END:DAYLIGHT
BEGIN:STANDARD
TZOFFSETFROM:+0200
TZOFFSETTO:+0100
TZNAME:CET
DTSTART:20241027T010000
END:STANDARD
END:VTIMEZONE
BEGIN:VEVENT
DTSTART;TZID=Europe/Berlin:20241116T114500
DTEND;TZID=Europe/Berlin:20241116T130000
DTSTAMP:20260421T171526
CREATED:20240619T060957Z
LAST-MODIFIED:20240619T061013Z
UID:3752-1731757500-1731762000@www.powerrobic.de
SUMMARY:Sportkongress MV
DESCRIPTION:PowerRobic® Masterclass auf dem Sportkongress M-V in Neubrandenburg.
URL:https://www.powerrobic.de/event/sportkongress-mv2024/
LOCATION:PSV Turnhalle NBB\, Feldstraße 3\, Neubrandenburg\, 17033
CATEGORIES:Masterclass,Special
END:VEVENT
END:VCALENDAR