BEGIN:VCALENDAR
VERSION:2.0
PRODID:-//PowerRobic® - ECPv6.8.1//NONSGML v1.0//EN
CALSCALE:GREGORIAN
METHOD:PUBLISH
X-ORIGINAL-URL:https://www.powerrobic.de
X-WR-CALDESC:Veranstaltungen für PowerRobic®
REFRESH-INTERVAL;VALUE=DURATION:PT1H
X-Robots-Tag:noindex
X-PUBLISHED-TTL:PT1H
BEGIN:VTIMEZONE
TZID:Europe/Berlin
BEGIN:DAYLIGHT
TZOFFSETFROM:+0100
TZOFFSETTO:+0200
TZNAME:CEST
DTSTART:20250330T010000
END:DAYLIGHT
BEGIN:STANDARD
TZOFFSETFROM:+0200
TZOFFSETTO:+0100
TZNAME:CET
DTSTART:20251026T010000
END:STANDARD
END:VTIMEZONE
BEGIN:VEVENT
DTSTART;TZID=Europe/Berlin:20250108T180000
DTEND;TZID=Europe/Berlin:20250108T200000
DTSTAMP:20260421T122554
CREATED:20241024T060142Z
LAST-MODIFIED:20241206T092248Z
UID:3998-1736359200-1736366400@www.powerrobic.de
SUMMARY:Welcome 2025 Fitnessparty
DESCRIPTION:Für alle\, die ihre Kräfte und Fitness testen und sportlich 2025 durchstarten wollen - hier habt ihr die Möglichkeit dazu! \n  \n \n  \n  \n 
URL:https://www.powerrobic.de/event/welcome-2025-fitnessparty/
LOCATION:Nikolaikirche\, An d. Nikolaikirche\, Freiberg\, 09599\, Germany
CATEGORIES:Masterclass,Special
END:VEVENT
BEGIN:VEVENT
DTSTART;TZID=Europe/Berlin:20250111T090000
DTEND;TZID=Europe/Berlin:20250111T140000
DTSTAMP:20260421T122554
CREATED:20240507T122749Z
LAST-MODIFIED:20240507T122749Z
UID:3656-1736586000-1736604000@www.powerrobic.de
SUMMARY:Workshop zum PowerRobic® Trainer
DESCRIPTION:WORKSHOP\n09.00 – 14.00 Uhr Theorie Ausbildung (Teilnahme auch per Zoom-Meeting möglich) \nAusbildungsgebühr: einmalig 250\,00 € \ninklusive: \n\nTheorieausbildung Präsenz / Zoom-Meeting\nPowerRobic® Start Up Paket in digitalisierter Form über unsere Trainerseite (vor choreografiertes Komplettprogramm)\nNutzung des PowerRobic® Logos und der Markenrechte\nZertifikatsgültigkeit für 12 Monate\n\nBei Online Workshops erhaltet ihr ein digitales PowerRobic® Zertifkat nach abgeschlossener Prüfung (Quality Check + Short Video einer Choreografie nach Wahl). \nWeitere Infos erhaltet ihr hier. \nJetzt anmelden
URL:https://www.powerrobic.de/event/workshop-zum-powerrobic-trainer-0125/
LOCATION:PowerRobic\, Alte Dresdner Str. 45\, Halsbrücke\, 09633\, Deutschland
CATEGORIES:Workshop
END:VEVENT
END:VCALENDAR